BEGIN:VCALENDAR
VERSION:2.0
PRODID:-//wp-events-plugin.com//7.0.5//EN
BEGIN:VEVENT
UID:2@libreriaeliglu.es
DTSTART:20250530T173000Z
DTEND:20250608T210000Z
DTSTAMP:20250528T101813Z
URL:https://libreriaeliglu.es/events/feria-del-libro-de-huesca/
SUMMARY:Feria del Libro de Huesca
DESCRIPTION:LUNES A JUEVES\n\nTardes de 17:30 a 21:00 horas\n\nVIERNES\n\n1
 7:30 a 21:30 horas\n\nSÁBADO Y DOMINGO\n\nMañanas de 11:00 a 14 horas\nT
 ardes de 17:30 a 21:30 horas
ATTACH;FMTTYPE=image/jpeg:https://libreriaeliglu.es/wp-content/uploads/202
 5/05/Captura-de-pantalla-2025-05-23-a-las-11.10.17.png
LOCATION:Plaza López Allué\, Plaza Lopez de Allue\, Huesca\, España
X-APPLE-STRUCTURED-LOCATION;VALUE=URI;X-ADDRESS=Plaza Lopez de Allue\, Hues
 ca\, España;X-APPLE-RADIUS=100;X-TITLE=Plaza López Allué:geo:0,0
END:VEVENT
END:VCALENDAR