BEGIN:VCALENDAR
VERSION:2.0
PRODID:-//wp-events-plugin.com//7.0.5//EN
BEGIN:VEVENT
UID:16@libreriaeliglu.es
DTSTART:20260227T190000Z
DTEND:20260227T203000Z
DTSTAMP:20260209T104417Z
URL:https://libreriaeliglu.es/events/comic-club-con-javier-marquina-4/
SUMMARY:Comic Club con Javier Marquina
DESCRIPTION:Último viernes de febrero\, vente a escuchar y hablar sobre hi
 storietas y compartir tus últimas lecturas comiqueras en una sesión diri
 gida por el guionista y divulgador Javier Marquina.
ATTACH;FMTTYPE=image/jpeg:https://libreriaeliglu.es/wp-content/uploads/202
 5/09/IMG_4590.jpg
END:VEVENT
END:VCALENDAR